View In:
ArcGIS JavaScript
ArcGIS Online Map Viewer
ArcGIS Earth
ArcGIS Pro
Service Description: <DIV STYLE="text-align:Left;font-size:12pt"><P><SPAN>Guía urbana de Sevilla de la cartografía municipal a escala 1:500</SPAN></P></DIV>
Map Name: Callejero
Legend
All Layers and Tables
Dynamic Legend
Dynamic All Layers
Layers:
Description: <DIV STYLE="text-align:Left;font-size:12pt"><P><SPAN>Guía urbana de Sevilla de la cartografía municipal a escala 1:500</SPAN></P></DIV>
Service Item Id: 153b09962064499badba442334cebdcf
Copyright Text: IDE.Sevilla, Gerencia de Urbanismo y Medio Ambiente de Sevilla, Ayuntamiento de Sevilla
Spatial Reference:
102100
(3857)
LatestVCSWkid(0)
Single Fused Map Cache: true
Tile Info:
- Height: 256.0
- Width: 256.0
- DPI: 96.0
-
Levels of Detail: 24
-
Level ID: 0
[ Start Tile, End Tile ]
- Resolution: 156543.03392800014
- Scale: 5.91657527591555E8
-
Level ID: 1
[ Start Tile, End Tile ]
- Resolution: 78271.51696399994
- Scale: 2.95828763795777E8
-
Level ID: 2
[ Start Tile, End Tile ]
- Resolution: 39135.75848200009
- Scale: 1.47914381897889E8
-
Level ID: 3
[ Start Tile, End Tile ]
- Resolution: 19567.87924099992
- Scale: 7.3957190948944E7
-
Level ID: 4
[ Start Tile, End Tile ]
- Resolution: 9783.93962049996
- Scale: 3.6978595474472E7
-
Level ID: 5
[ Start Tile, End Tile ]
- Resolution: 4891.96981024998
- Scale: 1.8489297737236E7
- Format: PNG
- Compression Quality: 0.0
- Origin: X: -2.0037508342787E7
Y: 2.0037508342787E7
- Spatial Reference: 102100
(3857)
LatestVCSWkid(0)
Storage Info:
- Storage Format: esriMapCacheStorageModeCompactV2
- Packet Size: 128
Initial Extent:
XMin: -700866.0105151223
YMin: 4469574.901411392
XMax: -634518.6699636787
YMax: 4505576.741733661
Spatial Reference: 102100
(3857)
LatestVCSWkid(0)
Full Extent:
XMin: -4664417.848926623
YMin: 1926727.6226227449
XMax: 4675417.892873173
YMax: 8593755.454682736
Spatial Reference: 102100
(3857)
LatestVCSWkid(0)
Units: esriMeters
Supported Image Format Types: PNG32,PNG24,PNG,JPG,DIB,TIFF,EMF,PS,PDF,GIF,SVG,SVGZ,BMP
Document Info:
Title: Guía Urbana
Author:
Comments: <DIV STYLE="text-align:Left;font-size:12pt"><P><SPAN>Guía urbana de Sevilla de la cartografía municipal a escala 1:500</SPAN></P></DIV>
Subject: Guía urbana de Sevilla de la cartografía municipal a escala 1:500
Category:
Keywords: Guía Urbana,Sevilla,Mapa base
AntialiasingMode: Best
TextAntialiasingMode: Force
Supports Dynamic Layers: true
Resampling: true
MaxRecordCount: 2000
MaxSelectionCount: 2000
MaxImageHeight: 4096
MaxImageWidth: 4096
Supported Query Formats: JSON, geoJSON, PBF
Supports Query Data Elements: true
Min Scale: 9244649
Max Scale: 245
Min LOD: 6
Max LOD: 20
Supports Datum Transformation: true
Child Resources:
Info
Dynamic Layer
Supported Operations:
Export Map
QueryLegends
QueryDomains
Find
Return Updates