{ "currentVersion": 11.5, "cimVersion": "3.5.0", "serviceDescription": "
Guía urbana de Sevilla de la cartografía municipal a escala 1:500<\/SPAN><\/P><\/DIV>",
"mapName": "Callejero",
"description": " Guía urbana de Sevilla de la cartografía municipal a escala 1:500<\/SPAN><\/P><\/DIV>",
"copyrightText": "IDE.Sevilla, Gerencia de Urbanismo y Medio Ambiente de Sevilla, Ayuntamiento de Sevilla",
"supportsDynamicLayers": true,
"layers": [
{
"id": 0,
"name": "Etiquetas",
"parentLayerId": -1,
"defaultVisibility": true,
"subLayerIds": [
1,
2
],
"minScale": 0,
"maxScale": 0,
"type": "Group Layer",
"supportsDynamicLegends": false
},
{
"id": 1,
"name": "_MunicipiosyDistritos_txt",
"parentLayerId": 0,
"defaultVisibility": true,
"subLayerIds": null,
"minScale": 4622324.434309,
"maxScale": 144447,
"type": "Feature Layer",
"geometryType": "esriGeometryPoint",
"supportsDynamicLegends": true
},
{
"id": 2,
"name": "Textos 2022",
"parentLayerId": 0,
"defaultVisibility": true,
"subLayerIds": [
3,
4,
19,
20,
21
],
"minScale": 144448,
"maxScale": 281,
"type": "Group Layer",
"supportsDynamicLegends": false
},
{
"id": 3,
"name": "Portales_GU",
"parentLayerId": 2,
"defaultVisibility": true,
"subLayerIds": null,
"minScale": 1129,
"maxScale": 281,
"type": "Feature Layer",
"geometryType": "esriGeometryPoint",
"supportsDynamicLegends": true
},
{
"id": 4,
"name": "Textos_Calles",
"parentLayerId": 2,
"defaultVisibility": true,
"subLayerIds": [
5,
7,
9,
11,
13,
15,
17
],
"minScale": 36111,
"maxScale": 281,
"type": "Group Layer",
"supportsDynamicLegends": false
},
{
"id": 5,
"name": "Textos_CallesAnno_18056",
"parentLayerId": 4,
"defaultVisibility": true,
"subLayerIds": [
6
],
"minScale": 36111,
"maxScale": 18055,
"type": "Annotation Layer",
"geometryType": "esriGeometryPolygon",
"supportsDynamicLegends": false
},
{
"id": 6,
"name": "1",
"parentLayerId": 5,
"defaultVisibility": true,
"subLayerIds": null,
"minScale": 36111,
"maxScale": 18055,
"supportsDynamicLegends": false
},
{
"id": 7,
"name": "Textos_CallesAnno_9028",
"parentLayerId": 4,
"defaultVisibility": true,
"subLayerIds": [
8
],
"minScale": 18055,
"maxScale": 9027,
"type": "Annotation Layer",
"geometryType": "esriGeometryPolygon",
"supportsDynamicLegends": false
},
{
"id": 8,
"name": "2",
"parentLayerId": 7,
"defaultVisibility": true,
"subLayerIds": null,
"minScale": 18055,
"maxScale": 9027,
"supportsDynamicLegends": false
},
{
"id": 9,
"name": "Textos_CallesAnno_4514",
"parentLayerId": 4,
"defaultVisibility": true,
"subLayerIds": [
10
],
"minScale": 9027,
"maxScale": 4513,
"type": "Annotation Layer",
"geometryType": "esriGeometryPolygon",
"supportsDynamicLegends": false
},
{
"id": 10,
"name": "2",
"parentLayerId": 9,
"defaultVisibility": true,
"subLayerIds": null,
"minScale": 9027,
"maxScale": 4513,
"supportsDynamicLegends": false
},
{
"id": 11,
"name": "Textos_CallesAnno_2257",
"parentLayerId": 4,
"defaultVisibility": true,
"subLayerIds": [
12
],
"minScale": 4513,
"maxScale": 2256,
"type": "Annotation Layer",
"geometryType": "esriGeometryPolygon",
"supportsDynamicLegends": false
},
{
"id": 12,
"name": "3",
"parentLayerId": 11,
"defaultVisibility": true,
"subLayerIds": null,
"minScale": 4513,
"maxScale": 2256,
"supportsDynamicLegends": false
},
{
"id": 13,
"name": "Textos_CallesAnno_1128",
"parentLayerId": 4,
"defaultVisibility": true,
"subLayerIds": [
14
],
"minScale": 2256,
"maxScale": 1127,
"type": "Annotation Layer",
"geometryType": "esriGeometryPolygon",
"supportsDynamicLegends": false
},
{
"id": 14,
"name": "4",
"parentLayerId": 13,
"defaultVisibility": true,
"subLayerIds": null,
"minScale": 2256,
"maxScale": 1127,
"supportsDynamicLegends": false
},
{
"id": 15,
"name": "Textos_CallesAnno_564",
"parentLayerId": 4,
"defaultVisibility": true,
"subLayerIds": [
16
],
"minScale": 1127,
"maxScale": 563,
"type": "Annotation Layer",
"geometryType": "esriGeometryPolygon",
"supportsDynamicLegends": false
},
{
"id": 16,
"name": "4",
"parentLayerId": 15,
"defaultVisibility": true,
"subLayerIds": null,
"minScale": 1127,
"maxScale": 563,
"supportsDynamicLegends": false
},
{
"id": 17,
"name": "Textos_CallesAnno_282",
"parentLayerId": 4,
"defaultVisibility": true,
"subLayerIds": [
18
],
"minScale": 563,
"maxScale": 281,
"type": "Annotation Layer",
"geometryType": "esriGeometryPolygon",
"supportsDynamicLegends": false
},
{
"id": 18,
"name": "4",
"parentLayerId": 17,
"defaultVisibility": true,
"subLayerIds": null,
"minScale": 563,
"maxScale": 281,
"supportsDynamicLegends": false
},
{
"id": 19,
"name": "EtiquetasCARTO",
"parentLayerId": 2,
"defaultVisibility": true,
"subLayerIds": null,
"minScale": 72225,
"maxScale": 36111,
"type": "Feature Layer",
"geometryType": "esriGeometryPoint",
"supportsDynamicLegends": true
},
{
"id": 20,
"name": "Parques-txt",
"parentLayerId": 2,
"defaultVisibility": true,
"subLayerIds": null,
"minScale": 18055,
"maxScale": 4513,
"type": "Feature Layer",
"geometryType": "esriGeometryPolygon",
"supportsDynamicLegends": true
},
{
"id": 21,
"name": "Monumentos_texto",
"parentLayerId": 2,
"defaultVisibility": true,
"subLayerIds": [
22,
23,
24,
25
],
"minScale": 0,
"maxScale": 0,
"type": "Group Layer",
"supportsDynamicLegends": false
},
{
"id": 22,
"name": "Monumentos_txt_ALL_UNESCO_1128",
"parentLayerId": 21,
"defaultVisibility": true,
"subLayerIds": null,
"minScale": 2256,
"maxScale": 1127,
"type": "Feature Layer",
"geometryType": "esriGeometryPolygon",
"supportsDynamicLegends": true
},
{
"id": 23,
"name": "Monumentos_txt_ALL_UNESCO_564",
"parentLayerId": 21,
"defaultVisibility": true,
"subLayerIds": null,
"minScale": 1127,
"maxScale": 100,
"type": "Feature Layer",
"geometryType": "esriGeometryPolygon",
"supportsDynamicLegends": true
},
{
"id": 24,
"name": "Monumentos_txt_ALL_1128",
"parentLayerId": 21,
"defaultVisibility": true,
"subLayerIds": null,
"minScale": 2256,
"maxScale": 1127,
"type": "Feature Layer",
"geometryType": "esriGeometryPolygon",
"supportsDynamicLegends": true
},
{
"id": 25,
"name": "Monumentos_txt_ALL_564",
"parentLayerId": 21,
"defaultVisibility": true,
"subLayerIds": null,
"minScale": 1127,
"maxScale": 100,
"type": "Feature Layer",
"geometryType": "esriGeometryPolygon",
"supportsDynamicLegends": true
},
{
"id": 26,
"name": "TerminoMunicipal",
"parentLayerId": -1,
"defaultVisibility": true,
"subLayerIds": null,
"minScale": 2311162.217155,
"maxScale": 0,
"type": "Feature Layer",
"geometryType": "esriGeometryPolygon",
"supportsDynamicLegends": true
},
{
"id": 27,
"name": "_ViarioPrincipal",
"parentLayerId": -1,
"defaultVisibility": true,
"subLayerIds": null,
"minScale": 577791,
"maxScale": 18055,
"type": "Feature Layer",
"geometryType": "esriGeometryPolyline",
"supportsDynamicLegends": true
},
{
"id": 28,
"name": "13-20 rango de visualización",
"parentLayerId": -1,
"defaultVisibility": true,
"subLayerIds": [
29,
35,
36,
37,
50,
51,
52,
53,
54,
55,
56,
57
],
"minScale": 0,
"maxScale": 0,
"type": "Group Layer",
"supportsDynamicLegends": false
},
{
"id": 29,
"name": "BIC",
"parentLayerId": 28,
"defaultVisibility": true,
"subLayerIds": [
30,
31,
32,
33,
34
],
"minScale": 72223.819286,
"maxScale": 0,
"type": "Group Layer",
"supportsDynamicLegends": false
},
{
"id": 30,
"name": "_Monumentos_BIC_contorno",
"parentLayerId": 29,
"defaultVisibility": true,
"subLayerIds": null,
"minScale": 4513.988705,
"maxScale": 0,
"type": "Feature Layer",
"geometryType": "esriGeometryPolygon",
"supportsDynamicLegends": true
},
{
"id": 31,
"name": "_MonumentosBIC_lineasInteriores",
"parentLayerId": 29,
"defaultVisibility": true,
"subLayerIds": null,
"minScale": 4513.988705,
"maxScale": 0,
"type": "Feature Layer",
"geometryType": "esriGeometryPolyline",
"supportsDynamicLegends": true
},
{
"id": 32,
"name": "_Plantas_UNESCO",
"parentLayerId": 29,
"defaultVisibility": true,
"subLayerIds": null,
"minScale": 4513.988705,
"maxScale": 0,
"type": "Feature Layer",
"geometryType": "esriGeometryPolygon",
"supportsDynamicLegends": true
},
{
"id": 33,
"name": "_Monumentos_UNESCO",
"parentLayerId": 29,
"defaultVisibility": true,
"subLayerIds": null,
"minScale": 72223.819286,
"maxScale": 9027.977411,
"type": "Feature Layer",
"geometryType": "esriGeometryPolygon",
"supportsDynamicLegends": true
},
{
"id": 34,
"name": "_Monumentos_BIC_planta",
"parentLayerId": 29,
"defaultVisibility": false,
"subLayerIds": null,
"minScale": 72223.819286,
"maxScale": 0,
"type": "Feature Layer",
"geometryType": "esriGeometryPolygon",
"supportsDynamicLegends": true
},
{
"id": 35,
"name": "_Aeropuerto",
"parentLayerId": 28,
"defaultVisibility": true,
"subLayerIds": null,
"minScale": 144447.638572,
"maxScale": 281,
"type": "Feature Layer",
"geometryType": "esriGeometryPolygon",
"supportsDynamicLegends": true
},
{
"id": 36,
"name": "_Arborea (17-20)",
"parentLayerId": 28,
"defaultVisibility": true,
"subLayerIds": null,
"minScale": 4513.988705,
"maxScale": 0,
"type": "Feature Layer",
"geometryType": "esriGeometryPolygon",
"supportsDynamicLegends": true
},
{
"id": 37,
"name": "_CartografiaLineas (13-20) MOD",
"parentLayerId": 28,
"defaultVisibility": true,
"subLayerIds": [
38,
39,
40,
41,
42,
43,
44,
45,
46,
47,
48,
49
],
"minScale": 72223.819286,
"maxScale": 0,
"type": "Group Layer",
"supportsDynamicLegends": false
},
{
"id": 38,
"name": "D_BellavistaPalmera",
"parentLayerId": 37,
"defaultVisibility": true,
"subLayerIds": null,
"minScale": 144447,
"maxScale": 0,
"type": "Feature Layer",
"geometryType": "esriGeometryPolyline",
"supportsDynamicLegends": true
},
{
"id": 39,
"name": "D_CascoAntiguo",
"parentLayerId": 37,
"defaultVisibility": true,
"subLayerIds": null,
"minScale": 144447,
"maxScale": 0,
"type": "Feature Layer",
"geometryType": "esriGeometryPolyline",
"supportsDynamicLegends": true
},
{
"id": 40,
"name": "D_CerroAmate",
"parentLayerId": 37,
"defaultVisibility": true,
"subLayerIds": null,
"minScale": 144447,
"maxScale": 0,
"type": "Feature Layer",
"geometryType": "esriGeometryPolyline",
"supportsDynamicLegends": true
},
{
"id": 41,
"name": "D_Este",
"parentLayerId": 37,
"defaultVisibility": true,
"subLayerIds": null,
"minScale": 144447,
"maxScale": 0,
"type": "Feature Layer",
"geometryType": "esriGeometryPolyline",
"supportsDynamicLegends": true
},
{
"id": 42,
"name": "D_losRemedios",
"parentLayerId": 37,
"defaultVisibility": true,
"subLayerIds": null,
"minScale": 144447,
"maxScale": 0,
"type": "Feature Layer",
"geometryType": "esriGeometryPolyline",
"supportsDynamicLegends": true
},
{
"id": 43,
"name": "D_Macarena",
"parentLayerId": 37,
"defaultVisibility": true,
"subLayerIds": null,
"minScale": 144447,
"maxScale": 0,
"type": "Feature Layer",
"geometryType": "esriGeometryPolyline",
"supportsDynamicLegends": true
},
{
"id": 44,
"name": "D_Nervion",
"parentLayerId": 37,
"defaultVisibility": true,
"subLayerIds": null,
"minScale": 144447,
"maxScale": 0,
"type": "Feature Layer",
"geometryType": "esriGeometryPolyline",
"supportsDynamicLegends": true
},
{
"id": 45,
"name": "D_Norte",
"parentLayerId": 37,
"defaultVisibility": true,
"subLayerIds": null,
"minScale": 144447,
"maxScale": 0,
"type": "Feature Layer",
"geometryType": "esriGeometryPolyline",
"supportsDynamicLegends": true
},
{
"id": 46,
"name": "D_SanPablo",
"parentLayerId": 37,
"defaultVisibility": true,
"subLayerIds": null,
"minScale": 144447,
"maxScale": 0,
"type": "Feature Layer",
"geometryType": "esriGeometryPolyline",
"supportsDynamicLegends": true
},
{
"id": 47,
"name": "D_Sur",
"parentLayerId": 37,
"defaultVisibility": true,
"subLayerIds": null,
"minScale": 144447,
"maxScale": 0,
"type": "Feature Layer",
"geometryType": "esriGeometryPolyline",
"supportsDynamicLegends": true
},
{
"id": 48,
"name": "D_Triana",
"parentLayerId": 37,
"defaultVisibility": true,
"subLayerIds": null,
"minScale": 144448,
"maxScale": 0,
"type": "Feature Layer",
"geometryType": "esriGeometryPolyline",
"supportsDynamicLegends": true
},
{
"id": 50,
"name": "_CarrilBici_2022 (18-20)",
"parentLayerId": 28,
"defaultVisibility": true,
"subLayerIds": null,
"minScale": 2257,
"maxScale": 0,
"type": "Feature Layer",
"geometryType": "esriGeometryPolygon",
"supportsDynamicLegends": true
},
{
"id": 51,
"name": "_ZonasVerdes (18-20) provisional",
"parentLayerId": 28,
"defaultVisibility": true,
"subLayerIds": null,
"minScale": 2256.994353,
"maxScale": 0,
"type": "Feature Layer",
"geometryType": "esriGeometryPolygon",
"supportsDynamicLegends": true
},
{
"id": 52,
"name": "_CartografiaSuperficies (13-20)",
"parentLayerId": 28,
"defaultVisibility": true,
"subLayerIds": null,
"minScale": 72223.819286,
"maxScale": 0,
"type": "Feature Layer",
"geometryType": "esriGeometryPolygon",
"supportsDynamicLegends": true
},
{
"id": 53,
"name": "_Parques (¿15? 16-20)",
"parentLayerId": 28,
"defaultVisibility": true,
"subLayerIds": null,
"minScale": 9027.977411,
"maxScale": 0,
"type": "Feature Layer",
"geometryType": "esriGeometryPolygon",
"supportsDynamicLegends": true
},
{
"id": 54,
"name": "_Parques fondo_CartografiaSuperficies (13-20)",
"parentLayerId": 28,
"defaultVisibility": true,
"subLayerIds": null,
"minScale": 72223.819286,
"maxScale": 0,
"type": "Feature Layer",
"geometryType": "esriGeometryPolygon",
"supportsDynamicLegends": true
},
{
"id": 55,
"name": "_RestosCarto (19-20) provisional",
"parentLayerId": 28,
"defaultVisibility": true,
"subLayerIds": null,
"minScale": 4513.988705,
"maxScale": 281,
"type": "Feature Layer",
"geometryType": "esriGeometryPolygon",
"supportsDynamicLegends": true
},
{
"id": 56,
"name": "_Acerado (17-20)",
"parentLayerId": 28,
"defaultVisibility": true,
"subLayerIds": null,
"minScale": 4513.988705,
"maxScale": 281,
"type": "Feature Layer",
"geometryType": "esriGeometryPolygon",
"supportsDynamicLegends": true
},
{
"id": 57,
"name": "_Tramos_via (17-20)",
"parentLayerId": 28,
"defaultVisibility": true,
"subLayerIds": null,
"minScale": 4513.988705,
"maxScale": 0,
"type": "Feature Layer",
"geometryType": "esriGeometryPolygon",
"supportsDynamicLegends": true
},
{
"id": 58,
"name": "ID_CartoRegional",
"parentLayerId": -1,
"defaultVisibility": true,
"subLayerIds": [
59,
60,
61,
62,
63,
64,
65
],
"minScale": 0,
"maxScale": 0,
"type": "Group Layer",
"supportsDynamicLegends": false
},
{
"id": 59,
"name": "_MPM",
"parentLayerId": 58,
"defaultVisibility": true,
"subLayerIds": null,
"minScale": 1.8489297737236E7,
"maxScale": 288895.277144,
"type": "Feature Layer",
"geometryType": "esriGeometryPolyline",
"supportsDynamicLegends": true
},
{
"id": 60,
"name": "_TR_Cla_Cat",
"parentLayerId": 58,
"defaultVisibility": true,
"subLayerIds": null,
"minScale": 5000000,
"maxScale": 144446,
"type": "Feature Layer",
"geometryType": "esriGeometryPolygon",
"supportsDynamicLegends": true
},
{
"id": 61,
"name": "_Carreteras",
"parentLayerId": 58,
"defaultVisibility": true,
"subLayerIds": null,
"minScale": 1155582,
"maxScale": 36111,
"type": "Feature Layer",
"geometryType": "esriGeometryPolyline",
"supportsDynamicLegends": true
},
{
"id": 62,
"name": "_Nuevo_07_06_ZonaVerde",
"parentLayerId": 58,
"defaultVisibility": true,
"subLayerIds": null,
"minScale": 1155582,
"maxScale": 36111,
"type": "Feature Layer",
"geometryType": "esriGeometryPolygon",
"supportsDynamicLegends": true
},
{
"id": 63,
"name": "_Nuevo_07_04_Manzana",
"parentLayerId": 58,
"defaultVisibility": true,
"subLayerIds": null,
"minScale": 1155582,
"maxScale": 36111,
"type": "Feature Layer",
"geometryType": "esriGeometryPolygon",
"supportsDynamicLegends": true
},
{
"id": 64,
"name": "_Masa Urbana",
"parentLayerId": 58,
"defaultVisibility": true,
"subLayerIds": null,
"minScale": 1155582,
"maxScale": 36101,
"type": "Feature Layer",
"geometryType": "esriGeometryPolygon",
"supportsDynamicLegends": true
},
{
"id": 65,
"name": "_FFCC",
"parentLayerId": 58,
"defaultVisibility": true,
"subLayerIds": null,
"minScale": 1155581.108577,
"maxScale": 144447.638572,
"type": "Feature Layer",
"geometryType": "esriGeometryPolyline",
"supportsDynamicLegends": true
},
{
"id": 66,
"name": "Fondo",
"parentLayerId": -1,
"defaultVisibility": true,
"subLayerIds": [
67,
70,
71,
72
],
"minScale": 0,
"maxScale": 0,
"type": "Group Layer",
"supportsDynamicLegends": false
},
{
"id": 67,
"name": "_Hidrografia",
"parentLayerId": 66,
"defaultVisibility": true,
"subLayerIds": [
68,
69
],
"minScale": 0,
"maxScale": 0,
"type": "Group Layer",
"supportsDynamicLegends": false
},
{
"id": 68,
"name": "Ríos Área Metropolitana",
"parentLayerId": 67,
"defaultVisibility": true,
"subLayerIds": null,
"minScale": 2311162.217155,
"maxScale": 564.248588,
"type": "Feature Layer",
"geometryType": "esriGeometryPolyline",
"supportsDynamicLegends": true
},
{
"id": 69,
"name": "Ríos y canales",
"parentLayerId": 67,
"defaultVisibility": true,
"subLayerIds": null,
"minScale": 2311162.217155,
"maxScale": 564.248588,
"type": "Feature Layer",
"geometryType": "esriGeometryPolygon",
"supportsDynamicLegends": true
},
{
"id": 70,
"name": "_Acerado",
"parentLayerId": 66,
"defaultVisibility": true,
"subLayerIds": null,
"minScale": 72223.819286,
"maxScale": 9027,
"type": "Feature Layer",
"geometryType": "esriGeometryPolygon",
"supportsDynamicLegends": true
},
{
"id": 71,
"name": "_Tramos_via",
"parentLayerId": 66,
"defaultVisibility": true,
"subLayerIds": null,
"minScale": 72223.819286,
"maxScale": 9027.977411,
"type": "Feature Layer",
"geometryType": "esriGeometryPolygon",
"supportsDynamicLegends": true
},
{
"id": 72,
"name": "_Termino Municipal",
"parentLayerId": 66,
"defaultVisibility": true,
"subLayerIds": null,
"minScale": 2311162.217155,
"maxScale": 72223.819286,
"type": "Feature Layer",
"geometryType": "esriGeometryPolygon",
"supportsDynamicLegends": true
}
],
"tables": [],
"spatialReference": {
"wkid": 102100,
"latestWkid": 3857,
"xyTolerance": 0.001,
"zTolerance": 0.001,
"mTolerance": 0.001,
"falseX": -20037700,
"falseY": -30241100,
"xyUnits": 10000,
"falseZ": -100000,
"zUnits": 10000,
"falseM": -100000,
"mUnits": 10000
},
"singleFusedMapCache": true,
"tileInfo": {
"rows": 256,
"cols": 256,
"dpi": 96,
"format": "PNG",
"compressionQuality": 0,
"origin": {
"x": -2.0037508342787E7,
"y": 2.0037508342787E7
},
"spatialReference": {
"wkid": 102100,
"latestWkid": 3857,
"xyTolerance": 0.001,
"zTolerance": 0.001,
"mTolerance": 0.001,
"falseX": -20037700,
"falseY": -30241100,
"xyUnits": 10000,
"falseZ": -100000,
"zUnits": 10000,
"falseM": -100000,
"mUnits": 10000
},
"lods": [
{
"level": 0,
"resolution": 156543.03392800014,
"scale": 5.91657527591555E8
},
{
"level": 1,
"resolution": 78271.51696399994,
"scale": 2.95828763795777E8
},
{
"level": 2,
"resolution": 39135.75848200009,
"scale": 1.47914381897889E8
},
{
"level": 3,
"resolution": 19567.87924099992,
"scale": 7.3957190948944E7
},
{
"level": 4,
"resolution": 9783.93962049996,
"scale": 3.6978595474472E7
},
{
"level": 5,
"resolution": 4891.96981024998,
"scale": 1.8489297737236E7
},
{
"level": 6,
"resolution": 2445.98490512499,
"scale": 9244648.868618
},
{
"level": 7,
"resolution": 1222.992452562495,
"scale": 4622324.434309
},
{
"level": 8,
"resolution": 611.4962262813797,
"scale": 2311162.217155
},
{
"level": 9,
"resolution": 305.74811314055756,
"scale": 1155581.108577
},
{
"level": 10,
"resolution": 152.87405657041106,
"scale": 577790.554289
},
{
"level": 11,
"resolution": 76.43702828507324,
"scale": 288895.277144
},
{
"level": 12,
"resolution": 38.21851414253662,
"scale": 144447.638572
},
{
"level": 13,
"resolution": 19.10925707126831,
"scale": 72223.819286
},
{
"level": 14,
"resolution": 9.554628535634155,
"scale": 36111.909643
},
{
"level": 15,
"resolution": 4.77731426794937,
"scale": 18055.954822
},
{
"level": 16,
"resolution": 2.388657133974685,
"scale": 9027.977411
},
{
"level": 17,
"resolution": 1.1943285668550503,
"scale": 4513.988705
},
{
"level": 18,
"resolution": 0.5971642835598172,
"scale": 2256.994353
},
{
"level": 19,
"resolution": 0.29858214164761665,
"scale": 1128.497176
},
{
"level": 20,
"resolution": 0.14929107082380833,
"scale": 564.248588
},
{
"level": 21,
"resolution": 0.07464553541190416,
"scale": 282.124294
},
{
"level": 22,
"resolution": 0.03732276770595208,
"scale": 141.062147
},
{
"level": 23,
"resolution": 0.01866138385297604,
"scale": 70.5310735
}
]
},
"storageInfo": {
"storageFormat": "esriMapCacheStorageModeCompactV2",
"packetSize": 128
},
"initialExtent": {
"xmin": -700866.0105151223,
"ymin": 4469574.901411392,
"xmax": -634518.6699636787,
"ymax": 4505576.741733661,
"spatialReference": {
"wkid": 102100,
"latestWkid": 3857,
"xyTolerance": 0.001,
"zTolerance": 0.001,
"mTolerance": 0.001,
"falseX": -20037700,
"falseY": -30241100,
"xyUnits": 10000,
"falseZ": -100000,
"zUnits": 10000,
"falseM": -100000,
"mUnits": 10000
}
},
"fullExtent": {
"xmin": -4664417.848926623,
"ymin": 1926727.6226227449,
"xmax": 4675417.892873173,
"ymax": 8593755.454682736,
"spatialReference": {
"wkid": 102100,
"latestWkid": 3857,
"xyTolerance": 0.001,
"zTolerance": 0.001,
"mTolerance": 0.001,
"falseX": -20037700,
"falseY": -30241100,
"xyUnits": 10000,
"falseZ": -100000,
"zUnits": 10000,
"falseM": -100000,
"mUnits": 10000
}
},
"datesInUnknownTimezone": false,
"minScale": 9244649,
"maxScale": 245,
"minLOD": 6,
"maxLOD": 20,
"units": "esriMeters",
"supportedImageFormatTypes": "PNG32,PNG24,PNG,JPG,DIB,TIFF,EMF,PS,PDF,GIF,SVG,SVGZ,BMP",
"documentInfo": {
"Title": "Guía Urbana",
"Author": "",
"Comments": " Guía urbana de Sevilla de la cartografía municipal a escala 1:500<\/SPAN><\/P><\/DIV>",
"Subject": "Guía urbana de Sevilla de la cartografía municipal a escala 1:500",
"Category": "",
"Version": "2.9.0",
"AntialiasingMode": "Best",
"TextAntialiasingMode": "Force",
"Keywords": "Guía Urbana,Sevilla,Mapa base"
},
"supportsQueryDomains": true,
"capabilities": "Map,Data",
"supportedQueryFormats": "JSON, geoJSON, PBF",
"hasVersionedData": true,
"exportTilesAllowed": false,
"referenceScale": 0.0,
"datumTransformations": [
{
"geoTransforms": [
{
"wkid": 1149,
"latestWkid": 1149,
"transformForward": false,
"name": "ETRS_1989_To_WGS_1984"
}
]
},
{
"geoTransforms": [
{
"wkid": 1149,
"latestWkid": 1149,
"transformForward": true,
"name": "ETRS_1989_To_WGS_1984"
}
]
}
],
"supportsDatumTransformation": true,
"floorAwareMapProperties": {
"defaultFloorFilterSettings": {"isEnabled": true}
},
"archivingInfo": {"supportsHistoricMoment": false},
"supportsClipping": true,
"supportsSpatialFilter": true,
"supportsTimeRelation": true,
"supportsQueryDataElements": true,
"mapUnits": {"uwkid": 9001},
"maxSelectionCount": 2000,
"maxRecordCount": 2000,
"maxImageHeight": 4096,
"maxImageWidth": 4096,
"supportedExtensions": "",
"resampling": true,
"serviceItemId": "153b09962064499badba442334cebdcf"
}